BEGIN:VCALENDAR
VERSION:2.0
PRODID:-//Research With A Heart - ECPv6.7.0//NONSGML v1.0//EN
CALSCALE:GREGORIAN
METHOD:PUBLISH
X-ORIGINAL-URL:https://rwah.rutgers.edu
X-WR-CALDESC:Events for Research With A Heart
REFRESH-INTERVAL;VALUE=DURATION:PT1H
X-Robots-Tag:noindex
X-PUBLISHED-TTL:PT1H
BEGIN:VTIMEZONE
TZID:UTC
BEGIN:STANDARD
TZOFFSETFROM:+0000
TZOFFSETTO:+0000
TZNAME:UTC
DTSTART:20210101T000000
END:STANDARD
END:VTIMEZONE
BEGIN:VEVENT
DTSTART;TZID=UTC:20210504T180000
DTEND;TZID=UTC:20210504T180000
DTSTAMP:20260424T080007
CREATED:20210423T201600Z
LAST-MODIFIED:20210423T201600Z
UID:542-1620151200-1620151200@rwah.rutgers.edu
SUMMARY:COVID-19 Vaccine: Facts vs. Myths
DESCRIPTION:Hosted by Reggie Blanding\nPanelists: Dr. Amesika Nyaku & Susana Caparros\nHesitant about getting the vaccine? Worried about the vaccine after effects? Join us for a discussion on myth-busting facts about the COVID-19 Vaccine. \nZoom ID: 830 0140 5843\nPasscode: 42901205
URL:https://rwah.rutgers.edu/event/covid-19-vaccine-facts-vs-myths/
ATTACH;FMTTYPE=image/png:https://sites.rutgers.edu/njms-rwah/wp-content/uploads/sites/449/2021/04/Screenshot_2021-04-23-Mail-Andrew-Moreira-Outlook.png
END:VEVENT
END:VCALENDAR